BEGIN:VCALENDAR
VERSION:2.0
PRODID:SG Member / Odoo / icalendar
BEGIN:VEVENT
SUMMARY:Spejdernes lejr 2026
DTSTART:20260718T080000Z
DTEND:20260726T130000Z
DTSTAMP:20260419T130337Z
UID:5123@c17182b6-5f7b-11ee-9b74-0242ac199003
DESCRIPTION:Vi skal på Spejdernes Lejr - det bliver fedt og en kæmpe opl
 evelse. Man kan vælge mellem fuld lejr (18. - 26. juli) og halv lejr (18.
  - 22. juli). Man betaler de 50% nu og de resterende 50% på efterfølg
 ende faktura senest d. 15. maj.
LOCATION:Frederiksberg\, Junggreensvej 14\, 2000 Frederiksberg
END:VEVENT
BEGIN:VEVENT
SUMMARY:Kanotur - seniorerne
DTSTART:20260517T103000Z
DTEND:20260517T173000Z
DTSTAMP:20260419T130337Z
UID:5377@c17182b6-5f7b-11ee-9b74-0242ac199003
DESCRIPTION:Kære Anemoner Vi skal tage udfordringen på Vandexplorer og 
 i den forbindelse har vi arrangeret en kanotur. Vi skal ud på Lyngby-Bag
 sværd sø og sejle i kanoer. Vi mødes d.17/5 kl.12.30 på Sorgenfri st
 . og går samlet over til kanoudlejningen med en frokostpause på vejen - 
 Husk en madpakke. Her sejler vi/holder pauser undervejs kl. 13-16. Herefte
 r finder vi et supermarked og køber ind til aftensmad som vi laver over t
 rangia - I har selv besluttet at vi laver pasta med kødsovs. Vi slutter k
 l.19.30 på Sorgenfri st. igen. I skal derfor selv stå for transporten f
 rem og tilbage\, men kan muligvis følges med både ledere og hinanden. 
 Senest tilmelding i medlemsservice d. 16/4\, da vi skal nå at leje kanoer
  :) Mange spejderknus Kir og Julie  
LOCATION:Frederiksberg\, Junggreensvej 14\, 2000 Frederiksberg
END:VEVENT
BEGIN:VEVENT
SUMMARY:Hjælper Kristi Himmelfartslejr
DTSTART:20260513T154500Z
DTEND:20260516T150000Z
DTSTAMP:20260419T130337Z
UID:5359@c17182b6-5f7b-11ee-9b74-0242ac199003
DESCRIPTION:Vi tager op til Myretuen hytte i Lynge. Her skal vi på piratl
 ejr og lave en masse spændende og kreative ting med de spirer og smutter.
  Vi skal bl.a. lave mad på bål og Trangia\, vandaktiviteter i Buresø o
 g på løb med røversprog. Der er begrænset mængde pladser\, 5 stk\, s
 å det er først til mølle og herefter er der venteliste. 
LOCATION:Frederiksberg\, Junggreensvej 14\, 2000 Frederiksberg
END:VEVENT
BEGIN:VEVENT
SUMMARY:Kristi Himmelfartslejr Spirer og Smutter
DTSTART:20260513T154500Z
DTEND:20260516T144500Z
DTSTAMP:20260419T130337Z
UID:5346@c17182b6-5f7b-11ee-9b74-0242ac199003
DESCRIPTION:Tag med på årets fedeste lejr for spirer og smutter. Tag med
  på Kristi Himmelfartslejren. Vi tager afsted onsdag kl. 18.00 med bus f
 ra kirken og tager til Myretuen\, Blåkærvej 2\, 3540 Lynge. Her skal vi 
 på en rigtig piratlejr med alt hvad det indebærer\, vi skal snakke pirat
 sprog\, lave tømmerflåder\, finde skatte\, lave mad på bål og i lære 
 som en ægte pirat.
LOCATION:Frederiksberg\, Junggreensvej 14\, 2000 Frederiksberg
END:VEVENT
BEGIN:VEVENT
SUMMARY:2. trops overnatningstur
DTSTART:20260502T065000Z
DTEND:20260503T120000Z
DTSTAMP:20260419T130337Z
UID:5362@c17182b6-5f7b-11ee-9b74-0242ac199003
LOCATION:Frederiksberg\, Junggreensvej 14\, 2000 Frederiksberg
END:VEVENT
BEGIN:VEVENT
SUMMARY:1. trop tur\, naturens kræfter
DTSTART:20260501T143000Z
DTEND:20260503T115000Z
DTSTAMP:20260419T130337Z
UID:5344@c17182b6-5f7b-11ee-9b74-0242ac199003
DESCRIPTION:Kære Kålorme og FønikserEr I klar til at udforske naturens 
 kræfter? Er\nI klar en hyggelig weekend?Vi tager afsted på weekendtur d.
  1.-3. maj\n2026. Vi mødes på Valby st. (foran 7/11) fredag d. 1. maj kl
 . 16.30 og er retur\nigen samme sted søndag d. 3. maj kl. 13.50.Vi skal t
 age toget sammen til Hvalsø\, hvor vi\nskal gå med vores rygsæk ud til 
 hytten. Vi skal sove indendørs på weekenden\,\nmen lave en masse sjove a
 ktiviteter udendørs. NB: mangler du en rygsæk og ikke\ntør deltage\, s
 å kontakt en leder\, så hjælper vi med at skaffe en.På turen skal vi b
 landt andet:-         \nTænde ild uden tændstikker-      
    \nLave mad og snacks på bål-         \nLave en finsk fakk
 el-         \nLave en varmluftballon-         \nLave mud
 der om til kildevandTuren koster 300 kr. og tilmelding sker senest d. 23. 
 april 2026.Vi glæder os til en skøn og hyggelig turMange spejderhilsnerP
 ia\, Mette og Solstråle\n\n\n\n\n\n
LOCATION:Frederiksberg\, Junggreensvej 14\, 2000 Frederiksberg
END:VEVENT
BEGIN:VEVENT
SUMMARY:Kolle Kolle uge - Seniorerne
DTSTART:20260426T120000Z
DTEND:20260430T180000Z
DTSTAMP:20260419T130337Z
UID:5376@c17182b6-5f7b-11ee-9b74-0242ac199003
DESCRIPTION:Hej Skønne Anemoner. Så er det tid til kolle kolle uge. Vi 
 gentager sucessen fra sidste år. Ligesom sidst overnatter vi i kirken fr
 a søndag d. 26/4 kl.14 - torsdag d. 30/4 kl.20 (efter spejdermødet). I b
 ehøver ikke at være der kl 14 søndag\, men giv lige en besked til Kir h
 vis I ikke er. Vi skal bo i kirken i disse dage og leve vores liv derfra.
  Vi skal på arbejde\, i skole\, til fritidsaktiviter og tandlægeaftaler 
 som vanligt\, men hvor vi spiser og sover sammen hjemme i kirken. Det ple
 jer at være helt vildt hyggeligt! Menuen har I allerede lagt og det sidst
 e vi mangler fra jer er en plan over hvordan jeres uge ser ud. Send meget 
 gerne et opdateret plan ifm. tilmelding. Vi håber at så mange som mulig
 t af jer vil deltage\, det bliver drøn hyggeligt :) Notér jer venligst 
 at da vi forventer at blive flere i år er det nødvendigt at tage liggeun
 derlag med når vi skal overnatte oppe i lokalet\, ellers kan vi ikke vær
 e der. Derfor ingen store luftmadrasser :) Vi glæder os stjerne meget! 
 Mange spejderknusKir og Julie
LOCATION:Flintholm Kirke\, Junggreensvej 14B\, 2000 Frederiksberg
END:VEVENT
END:VCALENDAR
